BEGIN:VCALENDAR
VERSION:2.0
PRODID:-//Mugendo - ECPv6.15.20//NONSGML v1.0//EN
CALSCALE:GREGORIAN
METHOD:PUBLISH
X-ORIGINAL-URL:https://www.mugendoeuskadi.com
X-WR-CALDESC:Eventos para Mugendo
REFRESH-INTERVAL;VALUE=DURATION:PT1H
X-Robots-Tag:noindex
X-PUBLISHED-TTL:PT1H
BEGIN:VTIMEZONE
TZID:UTC
BEGIN:STANDARD
TZOFFSETFROM:+0000
TZOFFSETTO:+0000
TZNAME:UTC
DTSTART:20180101T000000
END:STANDARD
END:VTIMEZONE
BEGIN:VEVENT
DTSTART;TZID=UTC:20210215T080000
DTEND;TZID=UTC:20210219T200000
DTSTAMP:20260423T233933
CREATED:20210203T085758Z
LAST-MODIFIED:20210203T090330Z
UID:8856-1613376000-1613764800@www.mugendoeuskadi.com
SUMMARY:Semana de CARNAVAL
DESCRIPTION:La semana del 15 al 19 de febrero celebramos el Carnaval en todas las academias Mugendo. ¡Vete abriendo el baúl de disfraces y elige tu favorito para lucirlo delante de tus compañeros en tu siguiente clase! Te esperaran tus profesores que también irán vestidos de forma muy peculiar a los que igual no reconoces ese día… \n 
URL:https://www.mugendoeuskadi.com/event/semana-de-carnaval/
ATTACH;FMTTYPE=image/png:https://www.mugendoeuskadi.com/wp-content/uploads/2021/02/T.png
END:VEVENT
BEGIN:VEVENT
DTSTART;TZID=UTC:20191031T000000
DTEND;TZID=UTC:20191101T000000
DTSTAMP:20260423T233933
CREATED:20191021T065805Z
LAST-MODIFIED:20191021T065805Z
UID:3655-1572480000-1572566400@www.mugendoeuskadi.com
SUMMARY:NOCHE DE HALLOWEEN
DESCRIPTION:Noche de disfraces\, entrenamiento Mugendo\, cena y desayuno\, juegos y sorpresas… Todo esto en la noche de Halloween. Del 31 de octubre al 1 de noviembre. Horario de las escuelas Deusto\, Barakaldo (20:30- 11:00) e Indautxu (20:30-13:00). Pregunta por precios en tu escuela.
URL:https://www.mugendoeuskadi.com/event/noche-de-halloween/
END:VEVENT
END:VCALENDAR